BEGIN:VCALENDAR
VERSION:2.0
PRODID:-//Ernährungsrat Göttingen &amp; Südniedersachsen e.V. - ECPv6.15.13.1//NONSGML v1.0//EN
CALSCALE:GREGORIAN
METHOD:PUBLISH
X-ORIGINAL-URL:https://ernaehrungsrat-goettingen.de
X-WR-CALDESC:Veranstaltungen für Ernährungsrat Göttingen &amp; Südniedersachsen e.V.
REFRESH-INTERVAL;VALUE=DURATION:PT1H
X-Robots-Tag:noindex
X-PUBLISHED-TTL:PT1H
BEGIN:VTIMEZONE
TZID:Europe/Berlin
BEGIN:DAYLIGHT
TZOFFSETFROM:+0100
TZOFFSETTO:+0200
TZNAME:CEST
DTSTART:20250330T010000
END:DAYLIGHT
BEGIN:STANDARD
TZOFFSETFROM:+0200
TZOFFSETTO:+0100
TZNAME:CET
DTSTART:20251026T010000
END:STANDARD
BEGIN:DAYLIGHT
TZOFFSETFROM:+0100
TZOFFSETTO:+0200
TZNAME:CEST
DTSTART:20260329T010000
END:DAYLIGHT
BEGIN:STANDARD
TZOFFSETFROM:+0200
TZOFFSETTO:+0100
TZNAME:CET
DTSTART:20261025T010000
END:STANDARD
BEGIN:DAYLIGHT
TZOFFSETFROM:+0100
TZOFFSETTO:+0200
TZNAME:CEST
DTSTART:20270328T010000
END:DAYLIGHT
BEGIN:STANDARD
TZOFFSETFROM:+0200
TZOFFSETTO:+0100
TZNAME:CET
DTSTART:20271031T010000
END:STANDARD
END:VTIMEZONE
BEGIN:VEVENT
DTSTART;TZID=Europe/Berlin:20260414T130000
DTEND;TZID=Europe/Berlin:20260414T173000
DTSTAMP:20260425T173542
CREATED:20260315T163206Z
LAST-MODIFIED:20260408T082412Z
UID:6377-1776171600-1776187800@ernaehrungsrat-goettingen.de
SUMMARY:Einladung: Barcamp „Ernährungswende Göttingen: Genussvoll. Zukunftsfähig. Gemeinsam.
DESCRIPTION:Am Dienstag\, den 14.04.2026\, gehen wir der Frage nach\, wie wir uns in Zukunft in Göttingen genussvoll\, regional\, fair und zukunftsfähig ernähren wollen. Im Barcamp kommen Menschen aus Landwirtschaft\, Verarbeitung\, Handel\, Außer-Haus-Verpflegung\, Zivilgesellschaft\, Verwaltung\, Politik\, Bildung und Forschung zusammen\, die die lokale Ernährungswende in der Region Göttingen aktiv voranbringen wollen: \n\nvoneinander lernen und vernetzen\nkonkrete Ideen\, Projekte und nächste Schritte anstoßen\nvom Reden ins Tun kommen\n\nDer Fokus liegt vor allem darauf\, was wir konkret tun können\, um diese Zukunft gemeinsam zu gestalten. Die Teilnahme am Barcamp ist kostenfrei. Wir bitten für die bessere Planbarkeit um eine Anmeldung über unser Anmeldetool Eveeno \nInformationen zum Format „Barcamp“ Ein Barcamp ist ein offenes\, selbstorganisiertes Veranstaltungsformat\, bei dem es keine oder wenige vorbereiteten Vorträge gibt. Die Teilnehmenden können daher die Themen\, die sie wichtig finden selbst einbringen. Alle sind eingeladen\, eine Session vorzuschlagen und mitzudiskutieren. Dafür sind keine fertigen Konzepte notwendig – Neugier\, Erfahrung\, Fragen oder der Wunsch\, etwas zu bewegen\, reichen völlig aus. Ziel ist nicht Diskussion um Probleme\, sondern lösungs- und zukunftsorientiertes Arbeiten.
URL:https://ernaehrungsrat-goettingen.de/veranstaltung/einladung-barcamp-ernaehrungswende-goettingen-genussvoll-zukunftsfaehig-gemeinsam
LOCATION:SC Hainberg 1980 e. V.\, Bertha-von-Suttner-Straße 2\, Göttingen\, 37085
ATTACH;FMTTYPE=image/jpeg:https://ernaehrungsrat-goettingen.de/wp-content/uploads/2026/03/giw_logo_002_.jpg
END:VEVENT
END:VCALENDAR