BEGIN:VCALENDAR
VERSION:2.0
PRODID:-//Ernährungsrat Göttingen &amp; Südniedersachsen e.V. - ECPv6.15.13.1//NONSGML v1.0//EN
CALSCALE:GREGORIAN
METHOD:PUBLISH
X-ORIGINAL-URL:https://ernaehrungsrat-goettingen.de
X-WR-CALDESC:Veranstaltungen für Ernährungsrat Göttingen &amp; Südniedersachsen e.V.
REFRESH-INTERVAL;VALUE=DURATION:PT1H
X-Robots-Tag:noindex
X-PUBLISHED-TTL:PT1H
BEGIN:VTIMEZONE
TZID:Europe/Berlin
BEGIN:DAYLIGHT
TZOFFSETFROM:+0100
TZOFFSETTO:+0200
TZNAME:CEST
DTSTART:20250330T010000
END:DAYLIGHT
BEGIN:STANDARD
TZOFFSETFROM:+0200
TZOFFSETTO:+0100
TZNAME:CET
DTSTART:20251026T010000
END:STANDARD
BEGIN:DAYLIGHT
TZOFFSETFROM:+0100
TZOFFSETTO:+0200
TZNAME:CEST
DTSTART:20260329T010000
END:DAYLIGHT
BEGIN:STANDARD
TZOFFSETFROM:+0200
TZOFFSETTO:+0100
TZNAME:CET
DTSTART:20261025T010000
END:STANDARD
BEGIN:DAYLIGHT
TZOFFSETFROM:+0100
TZOFFSETTO:+0200
TZNAME:CEST
DTSTART:20270328T010000
END:DAYLIGHT
BEGIN:STANDARD
TZOFFSETFROM:+0200
TZOFFSETTO:+0100
TZNAME:CET
DTSTART:20271031T010000
END:STANDARD
END:VTIMEZONE
BEGIN:VEVENT
DTSTART;TZID=Europe/Berlin:20260506T150000
DTEND;TZID=Europe/Berlin:20260506T200000
DTSTAMP:20260425T185148
CREATED:20260316T082422Z
LAST-MODIFIED:20260316T082858Z
UID:6392-1778079600-1778097600@ernaehrungsrat-goettingen.de
SUMMARY:Mach Mit! Woche - Gemeinschaftsgarten Helmsgrund kennenlernen
DESCRIPTION:Wir möchten unseren schönen Gemeinschaftsgarten vorstellen mit einem offenen Empfang und kleinem Nachmittags-Buffett\,mit Kräuter-Duft-Führungen und Garten Rundgängen und einer Einführung in die 4-Felder-Rotation. Danach und währenddessen gibt es offenes Gärtnern: Das tun\, was gerade ansteht. Wir freuen uns über Interessierte\, die vielleicht Lust haben\, bei uns mitzumachen. Ob mit viel oder wenig Zeit\, viel oder wenig Gartenerfahrung – jede/r ist willkommen. \n📌 Die Aktion findet im Offenen Nachbarschaftsgarten Helmsgrund in Göttingen statt. Der Garten liegt am Waldrand ganz oben an der Charlottenburger Straße. Eine Ortsbeschreibung befindet sich auf der Homepage. \nZielgruppe: alle Altersgruppen\, keine Anmeldung erforderlich. \n👉 Bitte wetterfeste Kleidung anziehen\, die auch schmutzig werden darf. Vorkenntnisse sind nicht erforderlich. Innerhalb des Zeitfensters kann man einfach irgendwann kommen. \n📸©Werner Frings
URL:https://ernaehrungsrat-goettingen.de/veranstaltung/mach-mit-woche-gemeinschaftsgarten-helmsgrund-kennenlernen
LOCATION:Gemeinschaftsgarten Helmsgrund\, Nähe Charlottenburgerstrasse\, Göttingen Geismar
ATTACH;FMTTYPE=image/jpeg:https://ernaehrungsrat-goettingen.de/wp-content/uploads/2026/03/csm_279_helmsgrund-bauwagenschild_foto_werner_frings_401d5c7a58.jpg
END:VEVENT
END:VCALENDAR