BEGIN:VCALENDAR
VERSION:2.0
PRODID:-//Ernährungsrat Göttingen &amp; Südniedersachsen e.V. - ECPv6.15.13.1//NONSGML v1.0//EN
CALSCALE:GREGORIAN
METHOD:PUBLISH
X-ORIGINAL-URL:https://ernaehrungsrat-goettingen.de
X-WR-CALDESC:Veranstaltungen für Ernährungsrat Göttingen &amp; Südniedersachsen e.V.
REFRESH-INTERVAL;VALUE=DURATION:PT1H
X-Robots-Tag:noindex
X-PUBLISHED-TTL:PT1H
BEGIN:VTIMEZONE
TZID:Europe/Berlin
BEGIN:DAYLIGHT
TZOFFSETFROM:+0100
TZOFFSETTO:+0200
TZNAME:CEST
DTSTART:20250330T010000
END:DAYLIGHT
BEGIN:STANDARD
TZOFFSETFROM:+0200
TZOFFSETTO:+0100
TZNAME:CET
DTSTART:20251026T010000
END:STANDARD
BEGIN:DAYLIGHT
TZOFFSETFROM:+0100
TZOFFSETTO:+0200
TZNAME:CEST
DTSTART:20260329T010000
END:DAYLIGHT
BEGIN:STANDARD
TZOFFSETFROM:+0200
TZOFFSETTO:+0100
TZNAME:CET
DTSTART:20261025T010000
END:STANDARD
BEGIN:DAYLIGHT
TZOFFSETFROM:+0100
TZOFFSETTO:+0200
TZNAME:CEST
DTSTART:20270328T010000
END:DAYLIGHT
BEGIN:STANDARD
TZOFFSETFROM:+0200
TZOFFSETTO:+0100
TZNAME:CET
DTSTART:20271031T010000
END:STANDARD
END:VTIMEZONE
BEGIN:VEVENT
DTSTART;TZID=Europe/Berlin:20260607T110000
DTEND;TZID=Europe/Berlin:20260607T110000
DTSTAMP:20260425T200224
CREATED:20260315T153350Z
LAST-MODIFIED:20260402T125149Z
UID:6349-1780830000-1780830000@ernaehrungsrat-goettingen.de
SUMMARY:Radtour zum Schäferfest in Klein Schneen
DESCRIPTION:Am Sonntag\, den 07. Juni 2026 findet das nächste Schäferfest auf dem Hofgut Klein Schneen statt! \nZusammen mit dem ADFC möchten wir\, der Ernährungsrat Göttingen\, eine Radtour zum Schäferfest machen. Die Tour führt steigungsfrei durch’s Leinetal auf Rad- und Feldwegen und ist damit auch sehr gut für Familien mit Kindern geeignet. Vor Ort gibt es einen längeren Aufenthalt\, individuelle frühere Rückfahrt ist möglich. \nTreffpunkt Radtour: 11:00 am Bootsverleih am Kiessee\, Sandweg\, 37083 Göttingen \nZum Schäferfest: Bereits seit 20 Jahren\, zum ersten Mal im Jahr 2003\, veranstaltet der Landschaftspflegeverband Landkreis Göttingen (LPV)  gemeinsam mit dem Schäferstammtisch das mittlerweile weit über die Regionsgrenzen bekannte und beliebte Schäferfest auf dem Hofgut in Klein Schneen (Gemeinde Friedland). Unter stets wechselnden Unterthemen rund um die Schafhaltung und neu seit 2018 auch rund um die Weidetierhaltung\, können die zahlreichen interessierten Besucher:innen die Leistungen der naturschutzgerechten Tierhaltung in aller Vielfalt hautnah erleben! \nDer LPV konnte bisher jedes Jahr um die 40 Aussteller und Ausstellerinnen für das Fest gewinnen\, die einen Einblick auf die große Auswahl an Produkten rund um die Weidetierhaltung geben. Und alle laden zum Schlemmen\, Stöbern und Staunen ein! Auch das Handwerkliche kommt dabei nicht zu kurz: Von der vorgeführten Schafschur kann über das Spinnen und Filzen die Vielseitigkeit von Wolle auch selbst erfahren werden. Weiterhin gibt es eine Schafrassenausstellung\, Hütehundevorstellungen und die Möglichkeit\, viele interessante Weidetiere in ihrer ganzen Pracht zu begutachten. \nNatürlich ist für das leibliche Wohl auch immer gesorgt: Ob süß\, bei Waffeln\, Schafmilcheis oder Kuchen\, oder salzig\, bei Lammbratwurst oder Schafs- und Ziegenkäse\, ist für alle Geschmacksrichtungen etwas dabei. \n📸©Lenja Kempf
URL:https://ernaehrungsrat-goettingen.de/veranstaltung/14-schaeferfest-in-klein-schneen-wer-moechte-als-radtour
LOCATION:Hofgut Klein Schneen\, Thiestraße 16\, Friedland\, 37133
ATTACH;FMTTYPE=image/jpeg:https://ernaehrungsrat-goettingen.de/wp-content/uploads/2026/03/Schaeferfest_C_Lenja-Kempf_16x9-scaled.jpg
END:VEVENT
END:VCALENDAR