BEGIN:VCALENDAR
VERSION:2.0
PRODID:-//Ernährungsrat Göttingen &amp; Südniedersachsen e.V. - ECPv6.15.13.1//NONSGML v1.0//EN
CALSCALE:GREGORIAN
METHOD:PUBLISH
X-ORIGINAL-URL:https://ernaehrungsrat-goettingen.de
X-WR-CALDESC:Veranstaltungen für Ernährungsrat Göttingen &amp; Südniedersachsen e.V.
REFRESH-INTERVAL;VALUE=DURATION:PT1H
X-Robots-Tag:noindex
X-PUBLISHED-TTL:PT1H
BEGIN:VTIMEZONE
TZID:Europe/Berlin
BEGIN:DAYLIGHT
TZOFFSETFROM:+0100
TZOFFSETTO:+0200
TZNAME:CEST
DTSTART:20250330T010000
END:DAYLIGHT
BEGIN:STANDARD
TZOFFSETFROM:+0200
TZOFFSETTO:+0100
TZNAME:CET
DTSTART:20251026T010000
END:STANDARD
BEGIN:DAYLIGHT
TZOFFSETFROM:+0100
TZOFFSETTO:+0200
TZNAME:CEST
DTSTART:20260329T010000
END:DAYLIGHT
BEGIN:STANDARD
TZOFFSETFROM:+0200
TZOFFSETTO:+0100
TZNAME:CET
DTSTART:20261025T010000
END:STANDARD
BEGIN:DAYLIGHT
TZOFFSETFROM:+0100
TZOFFSETTO:+0200
TZNAME:CEST
DTSTART:20270328T010000
END:DAYLIGHT
BEGIN:STANDARD
TZOFFSETFROM:+0200
TZOFFSETTO:+0100
TZNAME:CET
DTSTART:20271031T010000
END:STANDARD
END:VTIMEZONE
BEGIN:VEVENT
DTSTART;VALUE=DATE:20260704
DTEND;VALUE=DATE:20260705
DTSTAMP:20260425T195629
CREATED:20260422T091341Z
LAST-MODIFIED:20260422T091341Z
UID:6523-1783123200-1783209599@ernaehrungsrat-goettingen.de
SUMMARY:Biogemüse aus Dramfeld - Beikrautjäten mit Pflanzenbestimmung
DESCRIPTION:Infos folgen… \n 
URL:https://ernaehrungsrat-goettingen.de/veranstaltung/biogemuese-aus-dramfeld-beikrautjaeten-mit-pflanzenbestimmung
LOCATION:Biolandbetrieb Biogemüse aus Dramfeld\, Kramergasse 1\, 37124 Rosdorf\, Kramergasse 1\, Rosdorf-Dramfeld\, 37124
ATTACH;FMTTYPE=image/jpeg:https://ernaehrungsrat-goettingen.de/wp-content/uploads/2026/03/2026-01-Biogemuese-Dramfeld_16x9.jpg
END:VEVENT
END:VCALENDAR