BEGIN:VCALENDAR
VERSION:2.0
PRODID:-//Ernährungsrat Göttingen &amp; Südniedersachsen e.V. - ECPv6.15.13.1//NONSGML v1.0//EN
CALSCALE:GREGORIAN
METHOD:PUBLISH
X-ORIGINAL-URL:https://ernaehrungsrat-goettingen.de
X-WR-CALDESC:Veranstaltungen für Ernährungsrat Göttingen &amp; Südniedersachsen e.V.
REFRESH-INTERVAL;VALUE=DURATION:PT1H
X-Robots-Tag:noindex
X-PUBLISHED-TTL:PT1H
BEGIN:VTIMEZONE
TZID:Europe/Berlin
BEGIN:DAYLIGHT
TZOFFSETFROM:+0100
TZOFFSETTO:+0200
TZNAME:CEST
DTSTART:20250330T010000
END:DAYLIGHT
BEGIN:STANDARD
TZOFFSETFROM:+0200
TZOFFSETTO:+0100
TZNAME:CET
DTSTART:20251026T010000
END:STANDARD
BEGIN:DAYLIGHT
TZOFFSETFROM:+0100
TZOFFSETTO:+0200
TZNAME:CEST
DTSTART:20260329T010000
END:DAYLIGHT
BEGIN:STANDARD
TZOFFSETFROM:+0200
TZOFFSETTO:+0100
TZNAME:CET
DTSTART:20261025T010000
END:STANDARD
BEGIN:DAYLIGHT
TZOFFSETFROM:+0100
TZOFFSETTO:+0200
TZNAME:CEST
DTSTART:20270328T010000
END:DAYLIGHT
BEGIN:STANDARD
TZOFFSETFROM:+0200
TZOFFSETTO:+0100
TZNAME:CET
DTSTART:20271031T010000
END:STANDARD
END:VTIMEZONE
BEGIN:VEVENT
DTSTART;TZID=Europe/Berlin:20260425T110000
DTEND;TZID=Europe/Berlin:20260425T123000
DTSTAMP:20260425T162433
CREATED:20260416T072057Z
LAST-MODIFIED:20260416T074748Z
UID:6487-1777114800-1777120200@ernaehrungsrat-goettingen.de
SUMMARY:Führung "Biodiversität & Naturschutz in der Bio-Gärtnerei"
DESCRIPTION:Die erste Gärtnerei-Führung in diesem Jahr durch unsere „Bioland-Gärtnerei „Rote Rübe – Schwarzer Rettich“ ist für den 25. April\, 11 Uhr geplant. \nIm April erwarten Dich in den Folientunneln schöne Blattsalate\, aromatische Kräuter\, Kohlrabi\, sowie Mangold\, Rucola oder auch Radieschen. In der Kinderstube gibt es sogar schon Vorboten der Sommersaison wie Tomaten\, Gurken oder auch Auberginen. Aber natürlich gibt es bei uns nicht nur Gemüse zu sehen. \nGleichzeitig erfährst Du mehr über die Arbeit von LOTTA KAROTTA und unseren regionalen Lieferant*innen. Warum sind unsere regionale Bio-Lebensmittel besonders nachhaltig und klimafreundlich? Welche Konzepte stehen dahinter und wie schauen wir als Bio-Betrieb in die Zukunft? Erfahre mehr über unsere Arbeit\, natürliche Kreisläufe und wie sich damit Artenvielfalt\, Klima- & Naturschutz fördern lassen. \nSchwerpunkt dieser Führung ist das Thema „Biodiversität & Naturschutz“ und wie wir dies in unserer Bio-Gemüse-Erzeugung umsetzen! \nIm Anschluss an die Ackerführung bieten wir an\, einen Blick hinter die Kulissen von LOTTA KAROTTA zu werfen und nehmen Dich mit in unseren Betrieb. \nWir freuen uns\, Dich & Euch durch unsere Gärtnerei zu führen und bei LOTTA KAROTTA wilkommen zu heißen! \nAnmeldung: Kundenservice: 05508-979-419- 0 oder Mail an service@lotta-karotta.de \nWeitere Details zur Anfahrt hier: https://www.lotta-karotta.de/veranstaltungen/fruehlingsfuehrung.html  \n 
URL:https://ernaehrungsrat-goettingen.de/veranstaltung/fuehrung-biodiversitaet-naturschutz-in-der-bio-gaertnerei-lotta-karotta
LOCATION:LOTTA KAROTTA & Gärtnerei Rote Rübe – Schwarze Rettich\, Gartestraße 64\, \, ehemaliger Buswendeplatz am Ende der Gartestraße\, 37130 Gleichen-Rittmarshausen
ATTACH;FMTTYPE=image/webp:https://ernaehrungsrat-goettingen.de/wp-content/uploads/2026/04/LottaKarotte_Logo.webp
END:VEVENT
BEGIN:VEVENT
DTSTART;TZID=Europe/Berlin:20260425T140000
DTEND;TZID=Europe/Berlin:20260425T170000
DTSTAMP:20260425T162433
CREATED:20260402T122124Z
LAST-MODIFIED:20260417T101605Z
UID:6473-1777125600-1777136400@ernaehrungsrat-goettingen.de
SUMMARY:Radtour zum Obstblütenfest am 25. April ab 12Uhr bzw. 14 Uhr
DESCRIPTION:Zusammen mit dem ADFC gibt es die Möglichkeit\, mit dem Fahrrad zur Dornröschenwiese zu fahren! \nTreffpunkt dazu um 12:00 an der Güterbahnhofstraße 9\, 37073 Göttingen. Weitere Details gibt es hier: https://touren-termine.adfc.de/radveranstaltung/198090-zum-apfelblutenfest-dornroschenwiese-bei-dransfeld \nUnter den Apfelbäumen sitzen\, den Hummeln zuschauen\, nette Leute treffen\, essen und trinken\, Führung über die Streuobstwiese\, Informationen zur Streuobst-Solawi: all das könnt ihr auf der “Dornröschenwiese”\, einer Streuobstwiese am Rand von Dransfeld\, erleben. Vielleicht habt ihr sogar Lust auf eine Fahrradtour oder auf einen kleinen Spaziergang vom Busbahnhof “Grundschule Dransfeld” zur Streuobstwiese? Sie ist ein schönes Ausflugsziel und beim Streuobstwiesenfest ist eine Stärkung nach der Anstrengung garantiert. \n14 Uhr: Bewirtschaftung der Streuobstwiese durch das Prinzip der Solidarischen Landwirtschaft \nca. 14:30 Uhr: Streuobstwiesenführung \nca. 15 Uhr: Kuchen und Getränke\, wir freuen uns über einen Beitrag für’s Buffet \nWir freuen uns\, wenn ihr kommt! Bitte meldet euch an\, damit wir besser planen können: info@sobsternte.de \n📸©Sonja Biewer
URL:https://ernaehrungsrat-goettingen.de/veranstaltung/obstbluetenfest-am-25-april-ab-14-uhr
LOCATION:Dornröschenwiese Dransfeld\, Lange Trift\, Dransfeld
ATTACH;FMTTYPE=image/jpeg:https://ernaehrungsrat-goettingen.de/wp-content/uploads/2026/04/SObst_Sonja_Biewer.jpg
ORGANIZER;CN="Streuobst-Solawi S%E2%80%98Obst":MAILTO:info@sobsternte.de
END:VEVENT
END:VCALENDAR