BEGIN:VCALENDAR
VERSION:2.0
PRODID:-//Ernährungsrat Göttingen &amp; Südniedersachsen e.V. - ECPv6.15.13.1//NONSGML v1.0//EN
CALSCALE:GREGORIAN
METHOD:PUBLISH
X-ORIGINAL-URL:https://ernaehrungsrat-goettingen.de
X-WR-CALDESC:Veranstaltungen für Ernährungsrat Göttingen &amp; Südniedersachsen e.V.
REFRESH-INTERVAL;VALUE=DURATION:PT1H
X-Robots-Tag:noindex
X-PUBLISHED-TTL:PT1H
BEGIN:VTIMEZONE
TZID:Europe/Berlin
BEGIN:DAYLIGHT
TZOFFSETFROM:+0100
TZOFFSETTO:+0200
TZNAME:CEST
DTSTART:20250330T010000
END:DAYLIGHT
BEGIN:STANDARD
TZOFFSETFROM:+0200
TZOFFSETTO:+0100
TZNAME:CET
DTSTART:20251026T010000
END:STANDARD
BEGIN:DAYLIGHT
TZOFFSETFROM:+0100
TZOFFSETTO:+0200
TZNAME:CEST
DTSTART:20260329T010000
END:DAYLIGHT
BEGIN:STANDARD
TZOFFSETFROM:+0200
TZOFFSETTO:+0100
TZNAME:CET
DTSTART:20261025T010000
END:STANDARD
BEGIN:DAYLIGHT
TZOFFSETFROM:+0100
TZOFFSETTO:+0200
TZNAME:CEST
DTSTART:20270328T010000
END:DAYLIGHT
BEGIN:STANDARD
TZOFFSETFROM:+0200
TZOFFSETTO:+0100
TZNAME:CET
DTSTART:20271031T010000
END:STANDARD
END:VTIMEZONE
BEGIN:VEVENT
DTSTART;TZID=Europe/Berlin:20260506T150000
DTEND;TZID=Europe/Berlin:20260506T200000
DTSTAMP:20260425T173722
CREATED:20260316T082422Z
LAST-MODIFIED:20260316T082858Z
UID:6392-1778079600-1778097600@ernaehrungsrat-goettingen.de
SUMMARY:Mach Mit! Woche - Gemeinschaftsgarten Helmsgrund kennenlernen
DESCRIPTION:Wir möchten unseren schönen Gemeinschaftsgarten vorstellen mit einem offenen Empfang und kleinem Nachmittags-Buffett\,mit Kräuter-Duft-Führungen und Garten Rundgängen und einer Einführung in die 4-Felder-Rotation. Danach und währenddessen gibt es offenes Gärtnern: Das tun\, was gerade ansteht. Wir freuen uns über Interessierte\, die vielleicht Lust haben\, bei uns mitzumachen. Ob mit viel oder wenig Zeit\, viel oder wenig Gartenerfahrung – jede/r ist willkommen. \n📌 Die Aktion findet im Offenen Nachbarschaftsgarten Helmsgrund in Göttingen statt. Der Garten liegt am Waldrand ganz oben an der Charlottenburger Straße. Eine Ortsbeschreibung befindet sich auf der Homepage. \nZielgruppe: alle Altersgruppen\, keine Anmeldung erforderlich. \n👉 Bitte wetterfeste Kleidung anziehen\, die auch schmutzig werden darf. Vorkenntnisse sind nicht erforderlich. Innerhalb des Zeitfensters kann man einfach irgendwann kommen. \n📸©Werner Frings
URL:https://ernaehrungsrat-goettingen.de/veranstaltung/mach-mit-woche-gemeinschaftsgarten-helmsgrund-kennenlernen
LOCATION:Gemeinschaftsgarten Helmsgrund\, Nähe Charlottenburgerstrasse\, Göttingen Geismar
ATTACH;FMTTYPE=image/jpeg:https://ernaehrungsrat-goettingen.de/wp-content/uploads/2026/03/csm_279_helmsgrund-bauwagenschild_foto_werner_frings_401d5c7a58.jpg
END:VEVENT
BEGIN:VEVENT
DTSTART;TZID=Europe/Berlin:20260509T100000
DTEND;TZID=Europe/Berlin:20260509T123000
DTSTAMP:20260425T173722
CREATED:20260315T151508Z
LAST-MODIFIED:20260315T155930Z
UID:6340-1778320800-1778329800@ernaehrungsrat-goettingen.de
SUMMARY:Mach Mit! Woche - Einstieg in foodsharing
DESCRIPTION:Wie funktioniert foodsharing in Göttingen? Wie kann ich Teil der Bewegung werden und selbst Lebensmittel retten? Was ist beim Umgang mit den Fairteiler-Schränken zu beachten? All das und noch viel mehr erfährst du bei unserem Kennenlern-Event. Wir geben dir Einblicke in unsere ehrenamtliche Arbeit und teilen unser Wissen und vielleicht auch ein paar gerettete Lebensmittel mit dir. Wenn du bei uns mitmachen möchtest oder erstmal schauen willst\, ob foodsharing etwas für dich ist\, komm vorbei! \nfoodsharing Göttingen setzt sich seit 2014 gegen Lebensmittelverschwendung ein. Wir retten genießbare Lebensmittel aus Haushalten und Betrieben vor der Tonne und verteilen sie kostenfrei über Lebensmittelschränke („Fairteiler“) oder privat weiter. Werde gern Teil unserer Bewegung und hilf mit! \nZielgruppe: Erwachsene \n👉 Über eine Anmeldung per Mail an goettingen@foodsharing.network bis zum 07.05.2026 freuen wir uns\, damit wir grob abschätzen können\, wie viele Menschen wir erwarten können. Ihr könnt aber gerne auch spontan vorbeikommen.
URL:https://ernaehrungsrat-goettingen.de/veranstaltung/mach-mit-woche-einstieg-in-foodsharing
LOCATION:KAZ/Allerleiraum\, Bürgerstr. 15\, Göttingen\, 37073
ATTACH;FMTTYPE=image/png:https://ernaehrungsrat-goettingen.de/wp-content/uploads/2026/03/FoodSharing_Logo.png
END:VEVENT
BEGIN:VEVENT
DTSTART;TZID=Europe/Berlin:20260509T140000
DTEND;TZID=Europe/Berlin:20260509T170000
DTSTAMP:20260425T173722
CREATED:20260315T145910Z
LAST-MODIFIED:20260315T151737Z
UID:6333-1778335200-1778346000@ernaehrungsrat-goettingen.de
SUMMARY:MACH MIT! Woche - Besuch der Solawi Dramfeld - gemeinsam ernten\, kochen\, essen
DESCRIPTION:Wie funktioniert Anbau von Bio-Gemüse in der Praxis? Was macht Solidarische Landwirtschaft aus? Der Ernährungsrat Göttingen lädt ein: Claudia Schmalenbach und das Gärtner*innen-Team von „Biogemüse aus Dramfeld“ ermöglichen einen Blick hinter die Kulissen und in die Gewächshäuser. Wir werden den Betrieb besichtigen\, gemeinsam ernten und anschließend zusammen kochen und essen. So werden wir erleben\, wie wir als Gemeinschaft unser Ernährungssystem aktiv mitgestalten können. \nUnser Ernährungsrat ist ein gemeinnütziger Verein\, der sich für Ernährungsbildung und ein nachhaltiges Ernährungssystem einsetzt. Essen verbindet und wir bringen Menschen mit unterschiedlichen Perspektiven an einen Tisch. Gesucht werden stets neue Ernährungsbotschafter*innen für unsere Region. \nAnmeldung per Email unter: info@ernaehrungsrat-goettingen.de \nMaximal 20 Teilnehmende! \nZielgruppe: Erwachsene\, Familien\, Kinder \n👉 Bitte feste Schuhe und wetterfeste Kleidung mitbringen.
URL:https://ernaehrungsrat-goettingen.de/veranstaltung/mach-mit-woche-besuch-der-solawi-dramfeld-gemeinsam-ernten-kochen-essen
LOCATION:Biolandbetrieb Biogemüse aus Dramfeld\, Kramergasse 1\, 37124 Rosdorf\, Kramergasse 1\, Rosdorf-Dramfeld\, 37124
ATTACH;FMTTYPE=image/jpeg:https://ernaehrungsrat-goettingen.de/wp-content/uploads/2026/03/2026-01-Biogemuese-Dramfeld_16x9.jpg
ORGANIZER;CN="Ern%C3%A4hrungsrat G%C3%B6ttingen":MAILTO:info@ernaehrungsrat-goettingen.de
END:VEVENT
BEGIN:VEVENT
DTSTART;TZID=Europe/Berlin:20260513T140000
DTEND;TZID=Europe/Berlin:20260513T153000
DTSTAMP:20260425T173722
CREATED:20260422T084357Z
LAST-MODIFIED:20260422T084357Z
UID:6512-1778680800-1778686200@ernaehrungsrat-goettingen.de
SUMMARY:Bio kann jeder - Nachhaltig essen in Kita und Schule: Basis Seminar Bio-Einstieg - online
DESCRIPTION:WARUM und WIE mit Bio beginnen? So kann es gelingen – in Kita und Schule! \nNachhaltigkeit in der Kita- und Schulverpflegung ist weiterhin ein wichtiges und aktuelles Thema. Hierbei spielen Bio-Lebensmittel neben Aspekten wie Saisonalität\, Regionalität\, Fairem Handel und Lebensmittel-abfallvermeidung eine zentrale Rolle. Doch wie setze ich erfolgreich Bio in meiner Kita- und Schulverpflegung um? Dies ist nur eine Frage\, neben Themen wie: \n\nBio bei uns: Warum und wen hole ich mit „ins Boot“?\nWo und wie fange ich überhaupt an?\nWas sind erste Schritte zu (mehr) Bio in meiner Kita- oder Schulverpflegung\n\nIm kostenfreien Bio kann jeder-Seminar zum Bio-Einstieg werden wir auf diese und weitere Fragen Antworten finden. Sie benötigen keine Vorerfahrungen. Die Basis-Seminare richten sich insbesondere an Personen\, die mit Bio in ihrer Kita oder Schule starten möchten.\nFreuen Sie sich auf eine Kombination aus kurzweiligem Fachimpuls\, einem moderierten Austausch und spannende Einblicke in diese zwei erfolgreichen Praxisbeispiele aus der Kita- und Schulverpflegung: \n\nHeiko Mezger I FRÖBEL e.V.\nBertold Kohm I Service Gesellschaft Nordbaden\n\nDas ausführliche Programm sowie alle weiteren wichtigen Informationen finden Sie hier. Wir freuen uns auf Sie! \nEingeladen sind\n→ Einrichtungs- oder Schulleitungen bzw. Mitarbeitende von Einrichtungsträgern\n→ Erzieherinnen und Erzieher bzw. Tageseltern\n→ Küchenleitungen\, Mitarbeitende im Küchenteam bzw. Caterer\n→ Verantwortliche für die Vergabe von Verpflegungsleistungen\n→ Interessierte Akteurinnen und Akteure (z.B. Mitglieder eines Elternzusammenschlusses) \nAnmeldung: bis zum 07. Mai 2026 unter https://wp.me/P43uVJ-3fg. Den Einwahllink erhalten Sie kurz vor der Veranstaltung.\nTeilnahmegebühren: Dieses Angebot ist kostenfrei. Es entsteht keine Teilnahmegebühr.\nKontakt für Rückfragen: Evamarie Stengel (a’verdis) | 0251 133 88446 oder 0157 3412 3857 | evamarie.stengel@a-verdis.com
URL:https://ernaehrungsrat-goettingen.de/veranstaltung/bio-kann-jeder-nachhaltig-essen-in-kita-und-schule-basis-seminar-bio-einstieg-online
LOCATION:online
ATTACH;FMTTYPE=image/jpeg:https://ernaehrungsrat-goettingen.de/wp-content/uploads/2026/04/Bio_kann_jeder_Logo.jpeg
ORGANIZER;CN="a%E2%80%99verdis %E2%80%93 Rainer Roehl & Dr. Carola Strassner GbR":MAILTO:evamarie.stengel@a-verdis.com
END:VEVENT
END:VCALENDAR